BEGIN:VCALENDAR
VERSION:2.0
PRODID:-//Tukios.com/
BEGIN:VEVENT
UID:75c7a45e-f2dc-4443-8a04-3a02e3e48c32@www.hullingermortuary.com
DTSTAMP:20260425T204727Z
DTSTART:20260502T163000Z
DTEND:20260502T173000Z
SUMMARY:Graveside Service
DESCRIPTION:
URL:https://www.hullingermortuary.com/obituaries/ruth-allred
LOCATION: 12924 Bluebell Rd  Bluebell UT 84007
GEO:40.360363;-110.2329197
END:VEVENT
END:VCALENDAR