BEGIN:VCALENDAR
VERSION:2.0
PRODID:-//Tukios.com/
BEGIN:VEVENT
UID:eaeb2f4c-5ea9-45c3-84eb-565515033eff@www.hullingermortuary.com
DTSTAMP:20260421T000137Z
DTSTART:20260422T160000Z
DTEND:20260422T170000Z
SUMMARY:Funeral Service
DESCRIPTION:
URL:https://www.hullingermortuary.com/obituaries/lorna-jenks
LOCATION:Hullinger Mortuary 457 East 300 North  Roosevelt UT 84066
GEO:40.3039445;-109.9850888
END:VEVENT
END:VCALENDAR