BEGIN:VCALENDAR
VERSION:2.0
PRODID:-//Tukios.com/
BEGIN:VEVENT
UID:fba3fc93-3a52-42c1-b4b4-0196f3d448b2@www.hullingermortuary.com
DTSTAMP:20260420T235927Z
DTSTART:20260421T220000Z
DTEND:20260421T230000Z
SUMMARY:Visitation
DESCRIPTION:
URL:https://www.hullingermortuary.com/obituaries/lorna-jenks
LOCATION:Home 5000 East 2000 North  Roosevelt UT 84066
GEO:40.3323746;-109.9376648
END:VEVENT
END:VCALENDAR