BEGIN:VCALENDAR
VERSION:2.0
PRODID:-//Tukios.com/
BEGIN:VEVENT
UID:d3d09009-4f22-4a4d-81fa-4e3fe8542cf7@www.hullingermortuary.com
DTSTAMP:20260421T042614Z
DTSTART:20260425T200000Z
DTEND:20260425T220000Z
SUMMARY:Celebration of Life Open House
DESCRIPTION:
URL:https://www.hullingermortuary.com/obituaries/joel-murph-murphy
LOCATION: 402 N Hillcrest Dr  Roosevelt UT 84066
GEO:40.3047121;-110.0017441
END:VEVENT
END:VCALENDAR