BEGIN:VCALENDAR
VERSION:2.0
PRODID:-//Tukios.com/
BEGIN:VEVENT
UID:95d13d3d-d68f-43f2-9d8f-9c7d71c5fcce@www.hullingermortuary.com
DTSTAMP:20260421T023902Z
DTSTART:20260424
SUMMARY:Burial
DESCRIPTION:
URL:https://www.hullingermortuary.com/obituaries/denise-patterson-kenton
LOCATION: 6766 E Highway 40  Fort Duchesne UT 84026
GEO:40.3051093;-109.765575
END:VEVENT
END:VCALENDAR