BEGIN:VCALENDAR
VERSION:2.0
PRODID:-//Tukios.com/
BEGIN:VEVENT
UID:aa45e691-8d5c-4052-be98-232bd40ac5c3@www.hullingermortuary.com
DTSTAMP:20260421T024405Z
DTSTART:20260423T220000Z
DTEND:20260423T230000Z
SUMMARY:Wake
DESCRIPTION:
URL:https://www.hullingermortuary.com/obituaries/denise-patterson-kenton
LOCATION:Carmileta Jack 3384 N 4500 E  Roosevelt UT 84066
GEO:40.3513175;-109.9158545
END:VEVENT
END:VCALENDAR