BEGIN:VCALENDAR
VERSION:2.0
PRODID:-//Tukios.com/
BEGIN:VEVENT
UID:1003fa9e-2267-4985-9f7a-1e425589536f@www.hullingermortuary.com
DTSTAMP:20260421T024442Z
DTSTART:20260424T170000Z
DTEND:20260424T180000Z
SUMMARY:Funeral Service
DESCRIPTION:
URL:https://www.hullingermortuary.com/obituaries/denise-patterson-kenton
LOCATION: Small Loop Road  Ft. Duchesne UT 84026
GEO:40.5852602;-105.084423
END:VEVENT
END:VCALENDAR